BEGIN:VCALENDAR
VERSION:2.0
PRODID:icalendar-ruby
CALSCALE:GREGORIAN
METHOD:PUBLISH
BEGIN:VEVENT
DTSTAMP:20260426T000940Z
UID:1-607809@northspringschurch.org
DTSTART:20260924T010000Z
DTEND:20260924T020000Z
CLASS:PUBLIC
CREATED:20260425T155455
DESCRIPTION:Come join us each week as we gather to lift our prayer needs to
 gether! We begin with corporate prayer and then end with personal prayer r
 equests. \n 
LAST-MODIFIED:20260425T155455
LOCATION:Northsprings Church
SUMMARY:Wednesday Night Prayer
URL;VALUE=URI:https://www.northspringschurch.org/events/wednesday-night-pra
 yer/2026-09-23
ATTACH;FILENAME=F2JAf.jpg;FMTTYPE=image/jpeg:https://dq5pwpg1q8ru0.cloudfro
 nt.net/2025/02/24/17/45/23/c254b9fa-ff2e-4457-8879-f7b96624d572/F2JAf.jpg
END:VEVENT
END:VCALENDAR
